BEGIN:VCALENDAR
VERSION:2.0
CALSCALE:GREGORIAN
METHOD:PUBLISH
X-WR-TIMEZONE:Australia/Sydney
BEGIN:VTIMEZONE
TZID:Australia/Sydney
BEGIN:STANDARD
TZNAME:AEST
END:STANDARD
END:VTIMEZONE
BEGIN:VEVENT
DTSTART;TZID=Australia/Sydney:20260429T090000
DTEND;TZID=Australia/Sydney:20260429T100000
RRULE:FREQ=WEEKLY;UNTIL=20260626T100000;BYDAY=WE
DTSTAMP:20260421T191700
UID:1498
SUMMARY:Assembly
DESCRIPTION:Wednesday Fortnightly at 9:00 - 9:50
SEQUENCE:0
STATUS:CONFIRMED
TRANSP:OPAQUE
END:VEVENT
END:VCALENDAR